BEGIN:VCALENDAR
VERSION:2.0
PRODID:-//The Farm at Wolf Pine Hollow - ECPv6.15.20//NONSGML v1.0//EN
CALSCALE:GREGORIAN
METHOD:PUBLISH
X-ORIGINAL-URL:https://wolfpinehollow.com
X-WR-CALDESC:Events for The Farm at Wolf Pine Hollow
REFRESH-INTERVAL;VALUE=DURATION:PT1H
X-Robots-Tag:noindex
X-PUBLISHED-TTL:PT1H
BEGIN:VTIMEZONE
TZID:America/New_York
BEGIN:DAYLIGHT
TZOFFSETFROM:-0500
TZOFFSETTO:-0400
TZNAME:EDT
DTSTART:20230312T070000
END:DAYLIGHT
BEGIN:STANDARD
TZOFFSETFROM:-0400
TZOFFSETTO:-0500
TZNAME:EST
DTSTART:20231105T060000
END:STANDARD
BEGIN:DAYLIGHT
TZOFFSETFROM:-0500
TZOFFSETTO:-0400
TZNAME:EDT
DTSTART:20240310T070000
END:DAYLIGHT
BEGIN:STANDARD
TZOFFSETFROM:-0400
TZOFFSETTO:-0500
TZNAME:EST
DTSTART:20241103T060000
END:STANDARD
BEGIN:DAYLIGHT
TZOFFSETFROM:-0500
TZOFFSETTO:-0400
TZNAME:EDT
DTSTART:20250309T070000
END:DAYLIGHT
BEGIN:STANDARD
TZOFFSETFROM:-0400
TZOFFSETTO:-0500
TZNAME:EST
DTSTART:20251102T060000
END:STANDARD
END:VTIMEZONE
BEGIN:VEVENT
DTSTART;TZID=America/New_York:20241117T140000
DTEND;TZID=America/New_York:20241117T160000
DTSTAMP:20260423T211136
CREATED:20240909T112059Z
LAST-MODIFIED:20241116T143518Z
UID:10000072-1731852000-1731859200@wolfpinehollow.com
SUMMARY:Winter Tulip Talk
DESCRIPTION:Time to Talk Tulips…learn to grow your own winter tulips!\nWaking up to a kaleidoscope of vibrant and colorful tulips during the starkest months of a New England winter is a joy worth experiencing.  Growing these tulips yourself\, in the comfort of your own home\, for your own enjoyment takes the experience to another level. \nWe are excited to offer our first ever winter tulip hands-on growing gathering where together with other tulip lovers you will sip wine\, nosh on yummy treats and learn from our team everything you need to know to grow and nurture your own bulbs this winter. We will handle the dirty work with a demonstration covering bulb selection\, planting\, rooting and growing\, watering and harvesting\, while you watch and learn. \nEach participant will receive a growing crate and an assortment of 22 specially-cooled bulbs* for your own planting back home. \n$130 per person. \n*Please note\, bulbs may not have arrived by the time of your event\, but arrangements will be made to get them to you as soon as they do.  Additional bulbs will be available for attendees to purchase. \nDue to the limited number of participants\, all tickets are non-refundable. \n 
URL:https://wolfpinehollow.com/event/winter-tulip-talk/2024-11-17/
LOCATION:The Farm at Wolf Pine Hollow\, 53 Middle Rd\, Hancock\, NH\, 03449-5906\, United States
CATEGORIES:Winter Tulip Talk
ATTACH;FMTTYPE=image/jpeg:https://wolfpinehollow.com/wp-content/uploads/2024/09/Winter-Tulip-2-scaled.jpg
END:VEVENT
BEGIN:VEVENT
DTSTART;TZID=America/New_York:20241102T100000
DTEND;TZID=America/New_York:20241102T120000
DTSTAMP:20260423T211136
CREATED:20240909T112059Z
LAST-MODIFIED:20241116T143518Z
UID:10000071-1730541600-1730548800@wolfpinehollow.com
SUMMARY:Winter Tulip Talk
DESCRIPTION:Time to Talk Tulips…learn to grow your own winter tulips!\nWaking up to a kaleidoscope of vibrant and colorful tulips during the starkest months of a New England winter is a joy worth experiencing.  Growing these tulips yourself\, in the comfort of your own home\, for your own enjoyment takes the experience to another level. \nWe are excited to offer our first ever winter tulip hands-on growing gathering where together with other tulip lovers you will sip wine\, nosh on yummy treats and learn from our team everything you need to know to grow and nurture your own bulbs this winter. We will handle the dirty work with a demonstration covering bulb selection\, planting\, rooting and growing\, watering and harvesting\, while you watch and learn. \nEach participant will receive a growing crate and an assortment of 22 specially-cooled bulbs* for your own planting back home. \n$130 per person. \n*Please note\, bulbs may not have arrived by the time of your event\, but arrangements will be made to get them to you as soon as they do.  Additional bulbs will be available for attendees to purchase. \nDue to the limited number of participants\, all tickets are non-refundable. \n 
URL:https://wolfpinehollow.com/event/winter-tulip-talk/2024-11-02/
LOCATION:The Farm at Wolf Pine Hollow\, 53 Middle Rd\, Hancock\, NH\, 03449-5906\, United States
CATEGORIES:Winter Tulip Talk
ATTACH;FMTTYPE=image/jpeg:https://wolfpinehollow.com/wp-content/uploads/2024/09/Winter-Tulip-2-scaled.jpg
END:VEVENT
END:VCALENDAR